BEGIN:VCALENDAR
VERSION:2.0
PRODID:-//Library Market//iCal Export//EN
BEGIN:VEVENT
SUMMARY:PRIVATE
UID:12314
DTSTAMP:20260424T161800Z
DTSTART:20260416T170000Z
DTEND:20260416T190000Z
LOCATION:1700 Beaver Grade Rd, Suite 100, Moon Township, PA 15108, United 
 States
ROOM: Tutoring Room
DESCRIPTION:Private Work
URL:https://moontownship.librarycalendar.com/event/private-12314
END:VEVENT
END:VCALENDAR
